BEGIN:VCALENDAR
VERSION:2.0
PRODID:-//https://techfest.org.uk///NONSGML kigkonsult.se iCalcreator 2.10.15//
METHOD:PUBLISH
BEGIN:VEVENT
UID:20260420T123506UTC-41423BncGo@https://techfest.org.uk/
DTSTAMP:20260420T123506Z
DESCRIPTION: \n \n \n \n \n \nTechFest’s Schools Science Festival is one of
  our flagship events\, delivering engaging\, curriculum-linked STEM experi
 ences to nursery and primary pupils across the North East of Scotland. Thr
 ough hands-on workshops and live science shows\, the festival makes scienc
 e exciting\, accessible and connected to real-world careers.\nFind out mor
 e. https://techfest.org.uk/component/rseventspro/event/340-schools-science
 -festival?Itemid=101
DTSTART:20260527T132901Z
DTEND:20260529T152901Z
LOCATION:Robert Gordon University (Garthdee Campus\, AB10 7GJ)
SUMMARY:Schools Science Festival 
URL:https://techfest.org.uk/component/rseventspro/event/340-schools-science
 -festival?Itemid=101
END:VEVENT
END:VCALENDAR
